BEGIN:VCALENDAR
VERSION:2.0
PRODID:-//MWF Cameroon - ECPv6.11.2.1//NONSGML v1.0//EN
CALSCALE:GREGORIAN
METHOD:PUBLISH
X-WR-CALNAME:MWF Cameroon
X-ORIGINAL-URL:https://mwfcameroon.org
X-WR-CALDESC:Events for MWF Cameroon
REFRESH-INTERVAL;VALUE=DURATION:PT1H
X-Robots-Tag:noindex
X-PUBLISHED-TTL:PT1H
BEGIN:VTIMEZONE
TZID:UTC
BEGIN:STANDARD
TZOFFSETFROM:+0000
TZOFFSETTO:+0000
TZNAME:UTC
DTSTART:20250101T000000
END:STANDARD
END:VTIMEZONE
BEGIN:VEVENT
DTSTART;TZID=UTC:20250524T180000
DTEND;TZID=UTC:20250525T000000
DTSTAMP:20260419T194013
CREATED:20250507T093824Z
LAST-MODIFIED:20250508T131557Z
UID:10000004-1748109600-1748131200@mwfcameroon.org
SUMMARY:Gala Dinner & Anniversary Celebration
DESCRIPTION:📩 Confirm your attendance at the Gala Night (May 24). \nOnly 50 VIP tickets are available to the public. \nFirst come\, first served. \nPlease send an email to mwfcameroon@gmail.com to get payment information.Let us know which events you’ll attend\, your contact details\, any dietary or accessibility needs\, and whether you’d like to volunteer. \n🔗 mwfcameroon@gmail.com \n\n\n📩 Confirmez votre présence à la Soirée de Gala (24 mai). \nSeulement 50 billets VIP sont disponibles pour le public. \nPremier arrivé\, premier servi. \nVeuillez envoyer un e-mail à mwfcameroon@gmail.com pour obtenir les informations relatives au paiement.Merci de nous indiquer les événements auxquels vous participerez\, vos coordonnées\, vos besoins alimentaires ou en matière d’accessibilité\, ainsi que si vous souhaitez être bénévole. \n🔗 mwfcameroon@gmail.com
URL:https://mwfcameroon.org/event/gala-night/
LOCATION:Hilton Hotel\, Yaounde\, Centre\, Cameroon
ATTACH;FMTTYPE=image/jpeg:https://mwfcameroon.org/wp-content/uploads/2025/04/358150649_6105628426216236_5781079623570020847_n.jpg
END:VEVENT
END:VCALENDAR